BEGIN:VCALENDAR
VERSION:2.0
PRODID:-//https://www.awgl.nl///NONSGML kigkonsult.se iCalcreator 2.10.15//
METHOD:PUBLISH
BEGIN:VEVENT
UID:20260421T104142CEST-6124XdGSdl@https://www.awgl.nl/
DTSTAMP:20260421T084142Z
DESCRIPTION:Op 26 mei komt de Raad van Advies bijeen. Belangrijk punt op de
  agenda zijn onderzoeksvoorstellen die binnenkomen voor de deadline\, die 
 afloopt op 14 mei. https://www.awgl.nl/activiteiten/evenement/72-vergaderi
 ng-awgl-raad-van-advies
DTSTART:20250526T080000Z
DTEND:20250526T093000Z
LOCATION:Online bijeenkomst ()
SUMMARY:Vergadering AWGL Raad van Advies
URL:https://www.awgl.nl/activiteiten/evenement/72-vergadering-awgl-raad-van
 -advies
END:VEVENT
END:VCALENDAR
