BEGIN:VCALENDAR
VERSION:2.0
PRODID:-//https://www.awgl.nl///NONSGML kigkonsult.se iCalcreator 2.10.15//
METHOD:PUBLISH
BEGIN:VEVENT
UID:20260421T104141CEST-9868U1UvOK@https://www.awgl.nl/
DTSTAMP:20260421T084141Z
DESCRIPTION:Benieuwd naar de lessen van het ZonMw-project  ‘Brabantse GO! V
 oor een groene\, gezonde leefomgeving’? Projectleiders vanuit de gemeenten
  en GGD delen tijdens dit lunchwebinar hun ervaringen met het toepassen va
 n de GO! methode.\nHoe gebruik je de GO! methode om gezondheid een stevige
  plek te geven in je ruimtelijke ontwikkeling? Welke uitdagingen kom je al
 s gemeente tegen als je hiermee aan de slag gaat?\nTijdens het webinar op 
 2 september vertellen projectleiders vanuit gemeenten en GGD hier meer ove
 r. En delen zij hun ervaringen met het toepassen van de GO! methode.\n\nMe
 er over het ZonMw-project de Brabantse GO!\nHet project richt zich op het 
 verbeteren van de kwaliteit van leven in de drie Brabantse gemeenten Oss\,
  Bernheze en Breda. Dit wordt gedaan volgens de GO! methode - een innovati
 eve aanpak gericht op gezondheidsbevordering\, gezondheidsbescherming en w
 elzijn in de buurt. De nadruk ligt op participatie: inwoners zijn actief b
 etrokken bij het proces. Samenwerken aan concrete acties en afspraken is e
 ssentieel om groenere\, gezondere en sociaal sterkere buurten te realisere
 n. Een belangrijk onderdeel van het project is 'lerend evalueren'. De tuss
 entijdse evaluaties bieden de mogelijkheid om samen met de gemeenschap te 
 groeien en te verbeteren. Lees meer over dit project op deze pagina.\n\n 
 \nVoor wie?\nDit webinar is voor iedereen toegankelijk en is interessant v
 oor gemeenteambtenaren en andere professionals die bezig houden met gezond
 heid en/of ruimtelijke ontwikkelingen.\nNa afloop van het webinar is het m
 ogelijk om de opname (exclusief discussie) terug te kijken op onze website
 . Vragen? Neem hier contact met ons op.\nInschrijven\nWil je erbij zijn? S
 chrijf je nu in via onderstaande knop. Na aanmelding ontvang je voor de bi
 jeenkomst de Teams-link.\nVragen?\nNeem contact met ons op via het contact
 formulier. https://www.awgl.nl/activiteiten/evenement/87-webinar-lessen-ui
 t-de-brabantse-praktijk-over-het-toepassen-van-de-go-methode
DTSTART:20250902T100000Z
DTEND:20250902T104500Z
LOCATION:Online AWGL ()
SUMMARY:Webinar: Lessen uit de Brabantse praktijk over het toepassen van de
  GO! methode
URL:https://www.awgl.nl/activiteiten/evenement/87-webinar-lessen-uit-de-bra
 bantse-praktijk-over-het-toepassen-van-de-go-methode
END:VEVENT
END:VCALENDAR
